BEGIN:VCALENDAR
VERSION:2.0
PRODID:-//Asociación GNU/Linux Valencia - ECPv6.15.20//NONSGML v1.0//EN
CALSCALE:GREGORIAN
METHOD:PUBLISH
X-WR-CALNAME:Asociación GNU/Linux Valencia
X-ORIGINAL-URL:https://gnulinuxvalencia.org
X-WR-CALDESC:Eventos para Asociación GNU/Linux Valencia
REFRESH-INTERVAL;VALUE=DURATION:PT1H
X-Robots-Tag:noindex
X-PUBLISHED-TTL:PT1H
BEGIN:VTIMEZONE
TZID:Europe/Madrid
BEGIN:DAYLIGHT
TZOFFSETFROM:+0100
TZOFFSETTO:+0200
TZNAME:CEST
DTSTART:20250330T010000
END:DAYLIGHT
BEGIN:STANDARD
TZOFFSETFROM:+0200
TZOFFSETTO:+0100
TZNAME:CET
DTSTART:20251026T010000
END:STANDARD
BEGIN:DAYLIGHT
TZOFFSETFROM:+0100
TZOFFSETTO:+0200
TZNAME:CEST
DTSTART:20260329T010000
END:DAYLIGHT
BEGIN:STANDARD
TZOFFSETFROM:+0200
TZOFFSETTO:+0100
TZNAME:CET
DTSTART:20261025T010000
END:STANDARD
BEGIN:DAYLIGHT
TZOFFSETFROM:+0100
TZOFFSETTO:+0200
TZNAME:CEST
DTSTART:20270328T010000
END:DAYLIGHT
BEGIN:STANDARD
TZOFFSETFROM:+0200
TZOFFSETTO:+0100
TZNAME:CET
DTSTART:20271031T010000
END:STANDARD
END:VTIMEZONE
BEGIN:VEVENT
DTSTART;TZID=Europe/Madrid:20260227T170000
DTEND;TZID=Europe/Madrid:20260227T183000
DTSTAMP:20260423T025745
CREATED:20260213T194226Z
LAST-MODIFIED:20260213T194227Z
UID:5706-1772211600-1772217000@gnulinuxvalencia.org
SUMMARY:Taller de Git + install party
DESCRIPTION:17:00 Install party\n\n\n\n18:30 Taller de Git\n\n\n\n\nAhora también puedes seguir nuestros eventos en Mobilizon.
URL:https://gnulinuxvalencia.org/calendario/2026-02-27-taller-git/
LOCATION:Las Naves\, Joan Verdeguer\, 16\, València\, València\, 46024\, Spain
CATEGORIES:Install Party,Talleres organizados por la asociación
ORGANIZER;CN="Asociaci%C3%B3n de Usuarios GNU/Linux de Val%C3%A8ncia":MAILTO:correo(arroba)gnulinuxvalencia.org
END:VEVENT
END:VCALENDAR