BEGIN:VCALENDAR
VERSION:2.0
PRODID:-//Asociación GNU/Linux Valencia - ECPv6.15.20//NONSGML v1.0//EN
CALSCALE:GREGORIAN
METHOD:PUBLISH
X-WR-CALNAME:Asociación GNU/Linux Valencia
X-ORIGINAL-URL:https://gnulinuxvalencia.org
X-WR-CALDESC:Eventos para Asociación GNU/Linux Valencia
REFRESH-INTERVAL;VALUE=DURATION:PT1H
X-Robots-Tag:noindex
X-PUBLISHED-TTL:PT1H
BEGIN:VTIMEZONE
TZID:Europe/Madrid
BEGIN:DAYLIGHT
TZOFFSETFROM:+0100
TZOFFSETTO:+0200
TZNAME:CEST
DTSTART:20220327T010000
END:DAYLIGHT
BEGIN:STANDARD
TZOFFSETFROM:+0200
TZOFFSETTO:+0100
TZNAME:CET
DTSTART:20221030T010000
END:STANDARD
BEGIN:DAYLIGHT
TZOFFSETFROM:+0100
TZOFFSETTO:+0200
TZNAME:CEST
DTSTART:20230326T010000
END:DAYLIGHT
BEGIN:STANDARD
TZOFFSETFROM:+0200
TZOFFSETTO:+0100
TZNAME:CET
DTSTART:20231029T010000
END:STANDARD
BEGIN:DAYLIGHT
TZOFFSETFROM:+0100
TZOFFSETTO:+0200
TZNAME:CEST
DTSTART:20240331T010000
END:DAYLIGHT
BEGIN:STANDARD
TZOFFSETFROM:+0200
TZOFFSETTO:+0100
TZNAME:CET
DTSTART:20241027T010000
END:STANDARD
END:VTIMEZONE
BEGIN:VEVENT
DTSTART;TZID=Europe/Madrid:20230513T080000
DTEND;TZID=Europe/Madrid:20230513T170000
DTSTAMP:20260421T214436
CREATED:20230513T164638Z
LAST-MODIFIED:20230513T164639Z
UID:4211-1683964800-1683997200@gnulinuxvalencia.org
SUMMARY:Hablemos Mayo: El derecho a reparar y resurrección de equipos con software libre
DESCRIPTION:Javier Donate nos expondrá la necesidad de tener unas garantías y plazos de reparación suficientes para garantizar una vida útil mayor de nuestros equipos\, que por supuesto es extensible a todo el material electrónico. \n\n\n\nEs muy importante el papel del Software Libre en la sostenibilidad\, ya que permite una pervivencia inconcebible en todos los equipos que implementan Software privativo\, y por tanto con durabilidad programada.
URL:https://gnulinuxvalencia.org/calendario/hablemos-mayo-el-derecho-a-reparar-y-resurreccion-de-equipos-con-software-libre/
LOCATION:València
CATEGORIES:Evento mensual "Hablemos de"
ATTACH;FMTTYPE=image/png:https://gnulinuxvalencia.org/wp-content/uploads/2023/05/derecho-a-reparar.redimensionado.png
ORGANIZER;CN="Asociaci%C3%B3n de Usuarios GNU/Linux de Val%C3%A8ncia":MAILTO:correo(arroba)gnulinuxvalencia.org
END:VEVENT
END:VCALENDAR