BEGIN:VCALENDAR
VERSION:2.0
PRODID:-//Asociación GNU/Linux Valencia - ECPv6.15.20//NONSGML v1.0//EN
CALSCALE:GREGORIAN
METHOD:PUBLISH
X-ORIGINAL-URL:https://gnulinuxvalencia.org
X-WR-CALDESC:Eventos para Asociación GNU/Linux Valencia
REFRESH-INTERVAL;VALUE=DURATION:PT1H
X-Robots-Tag:noindex
X-PUBLISHED-TTL:PT1H
BEGIN:VTIMEZONE
TZID:Europe/Madrid
BEGIN:DAYLIGHT
TZOFFSETFROM:+0100
TZOFFSETTO:+0200
TZNAME:CEST
DTSTART:20200329T010000
END:DAYLIGHT
BEGIN:STANDARD
TZOFFSETFROM:+0200
TZOFFSETTO:+0100
TZNAME:CET
DTSTART:20201025T010000
END:STANDARD
BEGIN:DAYLIGHT
TZOFFSETFROM:+0100
TZOFFSETTO:+0200
TZNAME:CEST
DTSTART:20210328T010000
END:DAYLIGHT
BEGIN:STANDARD
TZOFFSETFROM:+0200
TZOFFSETTO:+0100
TZNAME:CET
DTSTART:20211031T010000
END:STANDARD
BEGIN:DAYLIGHT
TZOFFSETFROM:+0100
TZOFFSETTO:+0200
TZNAME:CEST
DTSTART:20220327T010000
END:DAYLIGHT
BEGIN:STANDARD
TZOFFSETFROM:+0200
TZOFFSETTO:+0100
TZNAME:CET
DTSTART:20221030T010000
END:STANDARD
END:VTIMEZONE
BEGIN:VEVENT
DTSTART;TZID=Europe/Madrid:20210314T170000
DTEND;TZID=Europe/Madrid:20210314T184500
DTSTAMP:20260423T163710
CREATED:20210307T223107Z
LAST-MODIFIED:20210318T181950Z
UID:3463-1615741200-1615747500@gnulinuxvalencia.org
SUMMARY:Conferencia de Richard M. Stallman: El Software Libre\, la Libertad y la Educación "1ª Cumbre Software Libre y Educación"
DESCRIPTION:Tras los actos celebrados el viernes y el sábado\, hoy domingo contaremos con la presencia de Richard M. Stallman\, Fundador del Movimiento del Software Libre\, del sistema operativo GNU y de la Free Software Foundation.\n \nUna vez más\, retransmitiremos desde https://streaming.gnulinuxvalencia.org/fsed-summit.webm utilizando Software Libre BigBlueButton\, emitido a través de un servidor de difusión gracias al software libre IceCast. \nPreguntas para Richard M. Stallman: enviar correo a secretaria (arroba) gnulinuxvalencia.org \nYa disponible en PeerTube
URL:https://gnulinuxvalencia.org/calendario/conferencia-de-richard-m-stallman-el-software-libre-la-libertad-y-la-educacion-1a-cumbre-software-libre-y-educacion/
CATEGORIES:Conferencias,Eventos Internacionales
ORGANIZER;CN="Asociaci%C3%B3n de Usuarios GNU/Linux de Val%C3%A8ncia":MAILTO:correo(arroba)gnulinuxvalencia.org
END:VEVENT
END:VCALENDAR